BEGIN:VCALENDAR
VERSION:2.0
PRODID:-//ChamberMaster//Event Calendar 2.0//EN
METHOD:PUBLISH
X-PUBLISHED-TTL:P3D
REFRESH-INTERVAL:P3D
CALSCALE:GREGORIAN
BEGIN:VEVENT
DTSTART:20230916T150000Z
DTEND:20230916T210000Z
X-MICROSOFT-CDO-ALLDAYEVENT:FALSE
SUMMARY:Ride Don't Hide
DESCRIPTION:Ride Don't Hide Vernon is back! We're gathering together in person for 2023. Imagine if youth in our community could get connected with the resources and services right away before their mental health severely impacts their families\, relationships\, housing\, education\, or employment. By joining CMHA Vernon on September 16 and participating in CMHA's Ride Don't Hide\, you are helping us raise essential funds for core services and critical programs that work to keep young people out of crisis and support them with the mental health help they need when they need it. Event details: 8:00 am - 9:00 am   Registration 11:00 am -Lunch 11:00 am - 1:30 pm - Family Activities **More information to come Cyclists of all skill levels are welcome! We'll kick off the ride together\, and you can choose your route (all routes start in Polson Park) Register for today\; https://cmha.donordrive.com/event/vernonbc
X-ALT-DESC;FMTTYPE=text/html:Ride Don&#39\;t Hide Vernon is back! We&#39\;re gathering together in person for 2023. Imagine if youth in our community could get connected with the resources and services right away before their mental health severely impacts their families\, relationships\, housing\, education\, or employment. By joining CMHA Vernon on September 16 and participating in CMHA&#39\;s Ride Don&#39\;t Hide\, you are helping us raise essential funds for core services and critical programs that work to keep young people out of crisis and support them with the mental health help they need when they need it. Event details: 8:00 am - 9:00 am &ndash\; Registration 11:00 am -Lunch 11:00 am - 1:30 pm - Family Activities **More information to come Cyclists of all skill levels are welcome! We&#39\;ll kick off the ride together\, and you can choose your route (all routes start in Polson Park) Register for today\; https://cmha.donordrive.com/event/vernonbc
LOCATION:Polson Park
UID:e.2809.5422
SEQUENCE:3
DTSTAMP:20260421T170905Z
URL:https://business.vernonchamber.ca/events/details/ride-don-t-hide-09-16-2023-5422
END:VEVENT

END:VCALENDAR
