BEGIN:VCALENDAR
VERSION:2.0
PRODID:-//ChamberMaster//Event Calendar 2.0//EN
METHOD:PUBLISH
X-PUBLISHED-TTL:P3D
REFRESH-INTERVAL:P3D
CALSCALE:GREGORIAN
BEGIN:VEVENT
DTSTART:20260524T003000Z
DTEND:20260524T060000Z
X-MICROSOFT-CDO-ALLDAYEVENT:FALSE
SUMMARY:Archway Society's Black Dress Gala
DESCRIPTION:The 11th Annual Black Dress Gala presented by Nixon Wenger is Archway Society for Domestic Peace's signature fundraising celebration\, bringing together more than 350 community members for a glamourous\, high-energy evening in support of survivors of domestic and sexual violence. This elegant\, community-driven evening honours resilience\, connection\, and collective impact\, while marking more than a decade of community support for Archway's work. Join us for an unforgettable night of fun\, connection\, and community impact! Guests can look forward to a vibrant and engaging experience\, including a seated dinner\, fundraising games and prize opportunities\, interactive guest experiences\, and a high-energy dance party to close the night Each part of the evening is thoughtfully designed to foster connection and deepen community impact. Grab a ticket\, meet us on the dance floor and stand with survivors. Tickets and info available at https://archwaysociety.ca/black-dress-gala/
X-ALT-DESC;FMTTYPE=text/html:The 11th Annual Black Dress Gala presented by Nixon Wenger is Archway Society for Domestic Peace&rsquo\;s signature fundraising celebration\, bringing together more than 350 community members for a glamourous\, high-energy evening in support of survivors of domestic and sexual violence. This elegant\, community-driven evening honours resilience\, connection\, and collective impact\, while marking more than a decade of community support for Archway&rsquo\;s work. Join us for an unforgettable night of fun\, connection\, and community impact! Guests can look forward to a vibrant and engaging experience\, including a seated dinner\, fundraising games and prize opportunities\, interactive guest experiences\, and a high-energy dance party to close the night Each part of the evening is thoughtfully designed to foster connection and deepen community impact. Grab a ticket\, meet us on the dance floor and stand with survivors. Tickets and info available at https://archwaysociety.ca/black-dress-gala/
LOCATION:Vernon Prestige Lodge and Conference Centre 3914 32 Street Vernon\, BC V1T 5P1
UID:e.2809.6092
SEQUENCE:3
DTSTAMP:20260421T124250Z
URL:https://business.vernonchamber.ca/events/details/archway-society-s-black-dress-gala-6092
END:VEVENT

END:VCALENDAR
